BEGIN:VCALENDAR
VERSION:2.0
PRODID:-//Normobaria Wilanów - ECPv6.15.12.2//NONSGML v1.0//EN
CALSCALE:GREGORIAN
METHOD:PUBLISH
X-ORIGINAL-URL:https://normobaria-wilanow.pl
X-WR-CALDESC:Wydarzenia dla Normobaria Wilanów
REFRESH-INTERVAL;VALUE=DURATION:PT1H
X-Robots-Tag:noindex
X-PUBLISHED-TTL:PT1H
BEGIN:VTIMEZONE
TZID:Europe/Paris
BEGIN:DAYLIGHT
TZOFFSETFROM:+0100
TZOFFSETTO:+0200
TZNAME:CEST
DTSTART:20230326T010000
END:DAYLIGHT
BEGIN:STANDARD
TZOFFSETFROM:+0200
TZOFFSETTO:+0100
TZNAME:CET
DTSTART:20231029T010000
END:STANDARD
BEGIN:DAYLIGHT
TZOFFSETFROM:+0100
TZOFFSETTO:+0200
TZNAME:CEST
DTSTART:20240331T010000
END:DAYLIGHT
BEGIN:STANDARD
TZOFFSETFROM:+0200
TZOFFSETTO:+0100
TZNAME:CET
DTSTART:20241027T010000
END:STANDARD
BEGIN:DAYLIGHT
TZOFFSETFROM:+0100
TZOFFSETTO:+0200
TZNAME:CEST
DTSTART:20250330T010000
END:DAYLIGHT
BEGIN:STANDARD
TZOFFSETFROM:+0200
TZOFFSETTO:+0100
TZNAME:CET
DTSTART:20251026T010000
END:STANDARD
END:VTIMEZONE
BEGIN:VEVENT
DTSTART;TZID=Europe/Paris:20241018T150000
DTEND;TZID=Europe/Paris:20241018T210000
DTSTAMP:20260420T012837
CREATED:20241001T194545Z
LAST-MODIFIED:20241001T201348Z
UID:23654-1729263600-1729285200@normobaria-wilanow.pl
SUMMARY:Masaż PeLoHa
DESCRIPTION:Masaż PeLoHa \nPeLoHa od słów: Peace\, Love and Harmony \nTo delikatny\, głęboko relaksujący i czuły masaż ciała\, który poprzez dotyk połączony z uzdrawiającą intencją ma piękne i potężne działanie na poziomie fizycznym\, energetycznym i duchowym. Stworzony przez Alana Earle\, który udoskonalał go przez prawie pół wieku\, łącząc elementy masażu polinezyjskiego\, klasycznego\, refleksologii\, Reiki\, akupresury\, wizualizacji\, techniki Bowena oraz pracy z meridianami\, czakrami i uzdrawianiem Polarity.Przynosi ukojenie dla nerwów\, mocno oczyszcza z niekorzystnych wzorców\, pomaga w przeżyciu traumy i przyspiesza regenerację ciała. Niesie w sobie bardzo dużo miłości\, która ruch za ruchem otula ciało i duszę.\nPeLoHa to połączenie pracy z ciałem i energią. Wykonywany w atmosferze miłości i pełnej akceptacji dla Istoty i Ciała osoby masowanej. Z troską i uważnością\, łagodnymi ruchami dłoni uwalnia ciało od napięć i blokad. Uruchamia i rozbudza naturalne procesy\, które mogły zostać zablokowane przez stres\, zmęczenie i silne emocje.\nMasaż trwa około godziny. Jest odpowiedni dla każdego\, bez względu na wiek\, płeć czy niesprawności fizyczne.\nMasowane jest całe ciało z wyłączeniem strefy intymnej. Ciało okryte jest ręcznikiem i lekko naoliwione\, dzięki czemu nie wymaga prysznica po zabiegu.\nNajlepiej działa seria masaży wykonywana w niedługich odstępach czasu. \nMasaż wykonuje Ania – kliknij tutaj by przejść do profilu Ani na facebook’u.\nO Ani:\n„Jako dziecko usłyszałam: \,\,Gdy dorośniesz bądź sobą\, wtedy będziesz szczęśliwa”.\nI tym ważnym dla mnie akcentem przedstawiam Wam Siebie\, prawdziwą szczęściarę\, pasjonatkę pszczół\, mającą pod swoją opieką 20 rodzin pszczelich w \,\,domkach” zwanych ulami. Spełniam pragnienie mojego serca\, będąc blisko natury\, współgrając z polem morficznym MamyZiemi\, wykonując masaże techniką metamorficzną. Mam prawdziwy\, naturalny miód\, propolis i wosk pszczeli ze swojej pasieki. A z nich tworzę naturalne kosmetyki\, pięknie pachnące olejki do masażu ciała\, kremiki\, mazidełka\, sera pielęgnacyjne do twarzy\, dłoni i stóp\, które uwielbiam refleksologicznie masować. Odkrywam niepojętą kiedyś dla mnie głębie miłości\, doznając jej manifestacji w życiu codziennym\, w każdej jej chwili. Subtelna\, dokładna\, precyzyjna w szczegółach\, trwająca w każdej chwili tu i teraz. Każda chwila jest dla mnie darem\, jest majestatyczna\, jest dzika\, jest wolna\, jest prawdziwa\, zdrowa\, delikatna\, silna\, odważna\, radosna\, spokojna\, nieprzewidywalna. Zapraszam na masaż techniką metamorficzną\, który otworzy Cię na doświadczenie swoich ponownych narodzin do życia żywym radosnym życiem. A radość to największy dar jaki możesz dać.” \nDODATKOWE INFORMACJE:\nMasaż odbywa się w trakcie pobytu w komorze\, w prywatnej przestrzeni.\nCzas trwania zabiegu: 45 minut\nCena: 200 zł\nSesja w normobarii trwa 2 godziny\, czyli po zabiegu macie czas na odpoczynek/integrację doświadczenia w warunkach komory normobarycznej.\nDo opłaty za masaż u Ayanny należy doliczyć opłatę za pobyt w komorze (kliknij tutaj aby otworzyć cennik). Można także wykorzystać sesję z karnetu.\nZapisy przyjmujemy telefonicznie.\nW razie jakichkolwiek pytań zapraszamy do kontaktu.\nbiuro@normobaria-wilanow.pl\n509 139 302
URL:https://normobaria-wilanow.pl/wydarzenie/peloha/
CATEGORIES:Masaże / Terapie Manualne
ATTACH;FMTTYPE=image/png:https://normobaria-wilanow.pl/wp-content/uploads/2024/10/peloha-na-strone-tlo.png
END:VEVENT
END:VCALENDAR