BEGIN:VCALENDAR
VERSION:2.0
PRODID:-//Normobaria Wilanów - ECPv6.15.12.2//NONSGML v1.0//EN
CALSCALE:GREGORIAN
METHOD:PUBLISH
X-ORIGINAL-URL:https://normobaria-wilanow.pl
X-WR-CALDESC:Wydarzenia dla Normobaria Wilanów
REFRESH-INTERVAL;VALUE=DURATION:PT1H
X-Robots-Tag:noindex
X-PUBLISHED-TTL:PT1H
BEGIN:VTIMEZONE
TZID:Europe/Paris
BEGIN:DAYLIGHT
TZOFFSETFROM:+0100
TZOFFSETTO:+0200
TZNAME:CEST
DTSTART:20240331T010000
END:DAYLIGHT
BEGIN:STANDARD
TZOFFSETFROM:+0200
TZOFFSETTO:+0100
TZNAME:CET
DTSTART:20241027T010000
END:STANDARD
BEGIN:DAYLIGHT
TZOFFSETFROM:+0100
TZOFFSETTO:+0200
TZNAME:CEST
DTSTART:20250330T010000
END:DAYLIGHT
BEGIN:STANDARD
TZOFFSETFROM:+0200
TZOFFSETTO:+0100
TZNAME:CET
DTSTART:20251026T010000
END:STANDARD
BEGIN:DAYLIGHT
TZOFFSETFROM:+0100
TZOFFSETTO:+0200
TZNAME:CEST
DTSTART:20260329T010000
END:DAYLIGHT
BEGIN:STANDARD
TZOFFSETFROM:+0200
TZOFFSETTO:+0100
TZNAME:CET
DTSTART:20261025T010000
END:STANDARD
END:VTIMEZONE
BEGIN:VEVENT
DTSTART;TZID=Europe/Paris:20250101T170000
DTEND;TZID=Europe/Paris:20250101T190000
DTSTAMP:20260420T135648
CREATED:20241221T203403Z
LAST-MODIFIED:20250112T101501Z
UID:24114-1735750800-1735758000@normobaria-wilanow.pl
SUMMARY:Wykład na temat funkcjonowania układu pokarmowego (wykład Edyty Bugajskiej)
DESCRIPTION:Układ pokarmowy – najsilniejszy z układów organizmu człowieka. \nWykład poruszy zagadnienia zdrowego stylu życia dotyczące naszego układu pokarmowego. Jako najsilniejszy z układów najbardziej wpływa na pozostałe układy naszego organizmu. Zrozumienie zasad jego pracy i poznanie naturalnych środków i preparatów go wspomagających\, to podstawa do poradzenia sobie z dolegliwościami cywilizacyjnymi. \nEdyta Bugajska – mama Piotra\, mikrobiolog po kierunku laboratoryjnym na Uniwersytecie Warszawskim ukończonym z wyróżnieniem\, pracowała w analityce medycznej\, autorka bloga „Zacznij od wody: naturopatia\, homeostaza organizmu\, autyzm”. \nOdnośnik do bloga: edytabugajska.blogspot.com  \nDODATKOWE INFORMACJE:\n🟢 Spotkanie trwa: 2 godziny.\n🟢 Wejściówką jest wniesienie dwóch opłat:\n– opłata za spotkanie 80 zł\,\n– do tego należy doliczyć opłatę za pobyt w komorze (https://normobaria-wilanow.pl/cennik/). Można także wykorzystać sesję z karnetu\, jeżeli ktoś posiada bądź nabędzie.\n🟢 Zapisy przyjmujemy telefonicznie\, bądź mailowo: \n📧 biuro@normobaria-wilanow.pl\n☎️ 509 139 302 \nW razie jakichkolwiek pytań zapraszamy do kontaktu 💚
URL:https://normobaria-wilanow.pl/wydarzenie/wyklady-o-zdrowiu/
CATEGORIES:Wykłady
ATTACH;FMTTYPE=image/png:https://normobaria-wilanow.pl/wp-content/uploads/2024/12/uklad-pokarmowy-na-www.png
END:VEVENT
END:VCALENDAR