BEGIN:VCALENDAR
VERSION:2.0
PRODID:-//Normobaria Wilanów - ECPv6.15.12.2//NONSGML v1.0//EN
CALSCALE:GREGORIAN
METHOD:PUBLISH
X-WR-CALNAME:Normobaria Wilanów
X-ORIGINAL-URL:https://normobaria-wilanow.pl
X-WR-CALDESC:Wydarzenia dla Normobaria Wilanów
REFRESH-INTERVAL;VALUE=DURATION:PT1H
X-Robots-Tag:noindex
X-PUBLISHED-TTL:PT1H
BEGIN:VTIMEZONE
TZID:Europe/Paris
BEGIN:DAYLIGHT
TZOFFSETFROM:+0100
TZOFFSETTO:+0200
TZNAME:CEST
DTSTART:20250330T010000
END:DAYLIGHT
BEGIN:STANDARD
TZOFFSETFROM:+0200
TZOFFSETTO:+0100
TZNAME:CET
DTSTART:20251026T010000
END:STANDARD
BEGIN:DAYLIGHT
TZOFFSETFROM:+0100
TZOFFSETTO:+0200
TZNAME:CEST
DTSTART:20260329T010000
END:DAYLIGHT
BEGIN:STANDARD
TZOFFSETFROM:+0200
TZOFFSETTO:+0100
TZNAME:CET
DTSTART:20261025T010000
END:STANDARD
BEGIN:DAYLIGHT
TZOFFSETFROM:+0100
TZOFFSETTO:+0200
TZNAME:CEST
DTSTART:20270328T010000
END:DAYLIGHT
BEGIN:STANDARD
TZOFFSETFROM:+0200
TZOFFSETTO:+0100
TZNAME:CET
DTSTART:20271031T010000
END:STANDARD
END:VTIMEZONE
BEGIN:VEVENT
DTSTART;TZID=Europe/Paris:20260426T080000
DTEND;TZID=Europe/Paris:20260426T170000
DTSTAMP:20260426T012754
CREATED:20260407T090537Z
LAST-MODIFIED:20260407T091019Z
UID:26203-1777190400-1777222800@normobaria-wilanow.pl
SUMMARY:Tego dnia parking Normobarii Wilanów jest zamknięty
DESCRIPTION:Prosimy korzystać z okolicznych miejsc parkingowych. \nMiejsca do parkowania w pobliżu Normobarii Wilanów.pdf
URL:https://normobaria-wilanow.pl/wydarzenie/parking/
END:VEVENT
BEGIN:VEVENT
DTSTART;TZID=Europe/Paris:20260426T110000
DTEND;TZID=Europe/Paris:20260426T120000
DTSTAMP:20260426T012754
CREATED:20260407T091814Z
LAST-MODIFIED:20260407T110029Z
UID:26190-1777201200-1777204800@normobaria-wilanow.pl
SUMMARY:Wprowadzenie do Qi-gong / Tai Chi
DESCRIPTION:Zapraszamy Was na niecodzienne spotkanie z praktyką Qi-gong oraz Tai Chi (na naszym terenie\, w plenerze). \nPoznacie podstawowe ćwiczenia oraz zapoznacie się z teorią. \nBędzie to spotkanie z chińską tradycją pojmowania zdrowia i energii życiowej (Qi). \nU nas ten koncept jest nieustannie żywy\, akupunktura jest jednym z kluczowych filarów koncepcji długowieczności wg dr. Jana Pokrywki\, twórcy normobarii. \n  \nProwadzi Dr med. Witalij Pletos – lekarz neurolog\, akupunkturzysta z wieloletnim doświadczeniem klinicznym zdobywanym w Chinach oraz praktykiem Qi-gong i Tai Chi na co dzień. \n\nUkończył Narodowy Medyczny Uniwersytet w Odessie w 1998 roku. Dr Pletos jest lekarzem neurologiem. Zainteresowanie medycyną Wschodu rozwijał już w latach szkolnych. Treningi sztuk walki kończyły się automasażem\, gdzie pierwszy raz spotkał się z akupunkturą. Podczas studiów podjął decyzję\, aby poświęcić akupunkturze dalszą przyszłość zawodową. Nauka akupunktury w latach studenckich była początkiem długiej i interesującej drogi.\n\n\nPracując jako lekarz neurolog oraz podczas praktyk klinicznych akupunktury w Chinach\, badał granice możliwości medycyny zachodniej. Dystalnych metod akupunktury uczył się od doktora Tana i mistrza Tonga. Te metody dr Pletos uważa za szczytowe osiągnięcia akupunktury chińskiej.\n\n\nKolejną metodą leczenia jakiej uczył się Dr Pletos\, była osteopatia. Lata praktyki udowodniły\, że organizm człowieka ma wspaniałą zdolność autonaprawy i sam dąży do zdrowia. Rola lekarza to przypominać mu o tym. Dr Pletos nie mógł przejść obojętnie obok innej jeszcze metody leczniczej.\n\n\nWsłuchanie się w czaszkowo-krzyżowy rytm ciała pozwala zrozumieć wszystkie poziomy funkcjonowania człowieka i na równi z diagnostyką z pulsu\, dłoni i twarzy oraz badaniem stanu meridianów\, pozwala odczytać obraz stanu zdrowia. Rzetelny lekarz uczy się w ciągu całego życia. Jednak to\, co dr Pletos osiągnął do tej pory\, pozwala mu skutecznie pomagać swoim pacjentom.\n\n  \nWydarzenie jest darmowe. \nLiczba miejsc ograniczona\, warto zarezerwować miejsce teraz.
URL:https://normobaria-wilanow.pl/wydarzenie/wprowadzenie-do-qi-gong-tai-chi/
CATEGORIES:Wydarzenie plenerowe
END:VEVENT
BEGIN:VEVENT
DTSTART;TZID=Europe/Paris:20260426T120000
DTEND;TZID=Europe/Paris:20260426T150000
DTSTAMP:20260426T012754
CREATED:20250916T084700Z
LAST-MODIFIED:20260419T085753Z
UID:24983-1777204800-1777215600@normobaria-wilanow.pl
SUMMARY:Piknik Sąsiedzki
DESCRIPTION:Zapraszamy na Piknik Sąsiedzki! \n\n\n\n W niedzielę \, 26 kwietnia\, w godzinach 11:00-15:00 spotykamy się na pikniku przed Normobarią! Czeka na Was mnóstwo atrakcji\, które umilą ten dzień:\n\n\n\n 11:00 – Rozpoczynamy piknik od praktyki Tai Chi / Qi-gong na świeżym powietrzu\n\n\n Wystawa obrazów\n\n\n Stoiska ze zdrową żywnością i rękodziełem\n\n\n Jedzenie\, picie i muzyka\n\n\n Koło fortuny\n\n\n Specjalne promocje – tańsze wejścia do Normobarii i Komnaty Szungitowej!\n\n\n\nTo doskonała okazja\, aby spędzić czas na świeżym powietrzu\, poznać swoich sąsiadów i zadbać o zdrowie!\n\n\nDo zobaczenia w niedzielę\, 26 kwietnia!
URL:https://normobaria-wilanow.pl/wydarzenie/piknik-sasiedzki/
CATEGORIES:Wydarzenie plenerowe
ATTACH;FMTTYPE=image/png:https://normobaria-wilanow.pl/wp-content/uploads/2025/09/piknik-grafika-na-www.png
END:VEVENT
END:VCALENDAR