BEGIN:VCALENDAR
VERSION:2.0
PRODID:-//Normobaria Wilanów - ECPv6.15.12.2//NONSGML v1.0//EN
CALSCALE:GREGORIAN
METHOD:PUBLISH
X-WR-CALNAME:Normobaria Wilanów
X-ORIGINAL-URL:https://normobaria-wilanow.pl
X-WR-CALDESC:Wydarzenia dla Normobaria Wilanów
REFRESH-INTERVAL;VALUE=DURATION:PT1H
X-Robots-Tag:noindex
X-PUBLISHED-TTL:PT1H
BEGIN:VTIMEZONE
TZID:Europe/Paris
BEGIN:DAYLIGHT
TZOFFSETFROM:+0100
TZOFFSETTO:+0200
TZNAME:CEST
DTSTART:20230326T010000
END:DAYLIGHT
BEGIN:STANDARD
TZOFFSETFROM:+0200
TZOFFSETTO:+0100
TZNAME:CET
DTSTART:20231029T010000
END:STANDARD
BEGIN:DAYLIGHT
TZOFFSETFROM:+0100
TZOFFSETTO:+0200
TZNAME:CEST
DTSTART:20240331T010000
END:DAYLIGHT
BEGIN:STANDARD
TZOFFSETFROM:+0200
TZOFFSETTO:+0100
TZNAME:CET
DTSTART:20241027T010000
END:STANDARD
BEGIN:DAYLIGHT
TZOFFSETFROM:+0100
TZOFFSETTO:+0200
TZNAME:CEST
DTSTART:20250330T010000
END:DAYLIGHT
BEGIN:STANDARD
TZOFFSETFROM:+0200
TZOFFSETTO:+0100
TZNAME:CET
DTSTART:20251026T010000
END:STANDARD
END:VTIMEZONE
BEGIN:VEVENT
DTSTART;VALUE=DATE:20241011
DTEND;VALUE=DATE:20241012
DTSTAMP:20260421T122825
CREATED:20230904T195601Z
LAST-MODIFIED:20250904T114311Z
UID:22933-1728604800-1728691199@normobaria-wilanow.pl
SUMMARY:Masaż Kobido/Kassaji/Maderoterapia (Kobido by Sylwia)
DESCRIPTION:Zapraszamy na japońskie masaże twarzy Kobido i Kassaji\, taping  kosmetyczny oraz maderoterapię\, z których możecie skorzystać w trakcie pobytu w warunkach normobarycznych. \nZABIEG WYKONUJE: Sylwia – Kliknij tutaj\, aby otworzyć profil Sylwii \nSylwia z zamiłowania i pasji zajmuje się naturalnymi\, holistycznymi metodami wspomagającymi ciało i umysł. Jest dyplomowaną terapeutką i certyfikowaną masażystką naturalnego masażu liftingującego Kobido. \n  \nKilka słów o proponowanych masażach: \n\nKobido – japoński masaż twarzy\, który spłyca zmarszczki\, poprawia owal twarzy\, rozluźnia plecy i obręcz barkową\, niweluje napięcia w okolicy żwacza (bruksizm i zaciskanie zębów)\, ujednolica kolor skóry\, relaksuje.\nKassaji – japońska technika masażu twarzy\, rodzaj drenażu limfatycznego twarzy\, wykonywanego naturalnym kamieniem o specjalnym podłużnym kształcie. Nie tylko drenuje\, ale też rozluźnia mięśnie i koi układ nerwowy. To zabieg wyjątkowo regenerujący i relaksujący. To również doskonała alternatywa dla osób z nadwrażliwą skórą\, trądzikową\, naczyniową\, którym nie można stosować mocnych i bolesnych technik.\nTaping estetyczny – metoda naturalnego modelowania\, relaksowania i odmładzania twarzy. Może pomóc również w problemach skórnych. Taśma przez swoją budowę działa jak druga skóra. Daje efekt liftingu i uniesienia naskórka. Dzięki temu powstaje przestrzeń\, gdzie lepiej krąży krew i limfa\, regenerując tkanki. Taśmy zastosowane po manualnej pracy na twarzy (m.in kobido lub kassaji) zdecydowanie podtrzymują efekt masażu i pogłębiają jego efekt.\nMasaż transbukalny – charakterystyka zabiegu polega na obustronnym ugniataniu zewnętrznych tkanek twarzy\, co ma prowadzić do: zredukowania napięcia mięśni\, pobudzenia mikrokrążenia na poziomie komórkowym\, stymulacji wydzielania elastyny\, a także kolagenu. Metoda obustronnej stymulacji twarzy\, jaką jest masaż transbukalny\, służy konkretnym przypadkom kosmetycznym oraz medycznym. Wśród najważniejszych wskazań kwalifikujących do przeprowadzenia zabiegu są:\n– zmarszczki mimiczne będące oznaką starzenia się cery\,\n– neurologiczne objawy zwiększonego napięcia mięśni twarzy\,\n– paraliż po: porażeniu\, udarze mózgu bądź silnej reakcji uczuleniowej\,\n– uwidocznione blizny będące konsekwencją wypadku lub innego urazu mechanicznego\,\n– dystrofia skórna spowodowana: złą dietą\, indywidualnymi predyspozycjami genetycznymi lub zewnętrznymi zanieczyszczeniami.\n\nForeo FAQ 202 po masażu Kobido – technologia\, która wzmacnia efekt liftingu \nPo masażu Kobido\, który naturalnie modeluje i ujędrnia twarz\, sięgamy po zaawansowaną maskę LED Foreo FAQ 202. To tylko 10-15 minut\, które: \n✨ intensyfikują efekt liftingu i wygładzenia\,\n✨ przyspieszają regenerację skóry\,\n✨ poprawiają koloryt i napięcie\,\n✨ wzmacniają wchłanianie składników aktywnych. \nForeo FAQ 202 wykorzystuje światło LED (czerwone\, niebieskie\, zielone i inne)\, aby maksymalnie zadbać o skórę po intensywnym masażu. \nEfekt? Natychmiastowe ukojenie\, promienny blask i długotrwałe odmłodzenie. \n  \nDODATKOWE INFORMACJE: \n Masaż odbywa się w trakcie pobytu w komorze\, w prywatnej przestrzeni. \n Czas trwania zabiegów: \n– masaż Kobido – 240 zł / 1\,5 godziny\n– masaż Kassaji – 220 zł / 1 godzina\n– taping – 30zł / 15-20 minut\n– masaż Kobido plus drenaż – 350 zł / 1\,5 godziny– masaż Kobido i transbukalny połączony – 350 zł / 2 godziny– masaż transbukalny – 220 zł / 1 godzina \nSesja w normobarii trwa 2 godziny\, czyli po zabiegu macie czas na odpoczynek/integrację doświadczenia w warunkach komory normobarycznej. \n Do opłaty za masaż u Sylwii należy doliczyć opłatę za pobyt w komorze (według cennika). Można także wykorzystać sesję z karnetu.
URL:https://normobaria-wilanow.pl/wydarzenie/masaz-kobido-kassaji-maderoterapia-kobido-by-sylwia-2/
CATEGORIES:Masaże / Terapie Manualne
ATTACH;FMTTYPE=image/jpeg:https://normobaria-wilanow.pl/wp-content/uploads/2025/09/Kobido-1280x854-1.jpg
END:VEVENT
BEGIN:VEVENT
DTSTART;VALUE=DATE:20241012
DTEND;VALUE=DATE:20241013
DTSTAMP:20260421T122825
CREATED:20240510T184331Z
LAST-MODIFIED:20250904T114256Z
UID:23475-1728691200-1728777599@normobaria-wilanow.pl
SUMMARY:Masaż Kobido/Kassaji/Maderoterapia (Kobido by Sylwia)
DESCRIPTION:Zapraszamy na japońskie masaże twarzy Kobido i Kassaji\, taping  kosmetyczny oraz maderoterapię\, z których możecie skorzystać w trakcie pobytu w warunkach normobarycznych. \nZABIEG WYKONUJE: Sylwia – Kliknij tutaj\, aby otworzyć profil Sylwii \nSylwia z zamiłowania i pasji zajmuje się naturalnymi\, holistycznymi metodami wspomagającymi ciało i umysł. Jest dyplomowaną terapeutką i certyfikowaną masażystką naturalnego masażu liftingującego Kobido. \n  \nKilka słów o proponowanych masażach: \n\nKobido – japoński masaż twarzy\, który spłyca zmarszczki\, poprawia owal twarzy\, rozluźnia plecy i obręcz barkową\, niweluje napięcia w okolicy żwacza (bruksizm i zaciskanie zębów)\, ujednolica kolor skóry\, relaksuje.\nKassaji – japońska technika masażu twarzy\, rodzaj drenażu limfatycznego twarzy\, wykonywanego naturalnym kamieniem o specjalnym podłużnym kształcie. Nie tylko drenuje\, ale też rozluźnia mięśnie i koi układ nerwowy. To zabieg wyjątkowo regenerujący i relaksujący. To również doskonała alternatywa dla osób z nadwrażliwą skórą\, trądzikową\, naczyniową\, którym nie można stosować mocnych i bolesnych technik.\nTaping estetyczny – metoda naturalnego modelowania\, relaksowania i odmładzania twarzy. Może pomóc również w problemach skórnych. Taśma przez swoją budowę działa jak druga skóra. Daje efekt liftingu i uniesienia naskórka. Dzięki temu powstaje przestrzeń\, gdzie lepiej krąży krew i limfa\, regenerując tkanki. Taśmy zastosowane po manualnej pracy na twarzy (m.in kobido lub kassaji) zdecydowanie podtrzymują efekt masażu i pogłębiają jego efekt.\nMasaż transbukalny – charakterystyka zabiegu polega na obustronnym ugniataniu zewnętrznych tkanek twarzy\, co ma prowadzić do: zredukowania napięcia mięśni\, pobudzenia mikrokrążenia na poziomie komórkowym\, stymulacji wydzielania elastyny\, a także kolagenu. Metoda obustronnej stymulacji twarzy\, jaką jest masaż transbukalny\, służy konkretnym przypadkom kosmetycznym oraz medycznym. Wśród najważniejszych wskazań kwalifikujących do przeprowadzenia zabiegu są:\n– zmarszczki mimiczne będące oznaką starzenia się cery\,\n– neurologiczne objawy zwiększonego napięcia mięśni twarzy\,\n– paraliż po: porażeniu\, udarze mózgu bądź silnej reakcji uczuleniowej\,\n– uwidocznione blizny będące konsekwencją wypadku lub innego urazu mechanicznego\,\n– dystrofia skórna spowodowana: złą dietą\, indywidualnymi predyspozycjami genetycznymi lub zewnętrznymi zanieczyszczeniami.\n\nForeo FAQ 202 po masażu Kobido – technologia\, która wzmacnia efekt liftingu \nPo masażu Kobido\, który naturalnie modeluje i ujędrnia twarz\, sięgamy po zaawansowaną maskę LED Foreo FAQ 202. To tylko 10-15 minut\, które: \n✨ intensyfikują efekt liftingu i wygładzenia\,\n✨ przyspieszają regenerację skóry\,\n✨ poprawiają koloryt i napięcie\,\n✨ wzmacniają wchłanianie składników aktywnych. \nForeo FAQ 202 wykorzystuje światło LED (czerwone\, niebieskie\, zielone i inne)\, aby maksymalnie zadbać o skórę po intensywnym masażu. \nEfekt? Natychmiastowe ukojenie\, promienny blask i długotrwałe odmłodzenie. \n  \nDODATKOWE INFORMACJE: \n Masaż odbywa się w trakcie pobytu w komorze\, w prywatnej przestrzeni. \n Czas trwania zabiegów: \n– masaż Kobido – 240 zł / 1\,5 godziny\n– masaż Kassaji – 220 zł / 1 godzina\n– taping – 30zł / 15-20 minut\n– masaż Kobido plus drenaż – 350 zł / 1\,5 godziny– masaż Kobido i transbukalny połączony – 350 zł / 2 godziny– masaż transbukalny – 220 zł / 1 godzina \nSesja w normobarii trwa 2 godziny\, czyli po zabiegu macie czas na odpoczynek/integrację doświadczenia w warunkach komory normobarycznej. \n Do opłaty za masaż u Sylwii należy doliczyć opłatę za pobyt w komorze (według cennika). Można także wykorzystać sesję z karnetu.
URL:https://normobaria-wilanow.pl/wydarzenie/masaz-kobido-kassaji-maderoterapia-kobido-by-sylwia/
CATEGORIES:Masaże / Terapie Manualne
ATTACH;FMTTYPE=image/jpeg:https://normobaria-wilanow.pl/wp-content/uploads/2025/09/Kobido-1280x854-1.jpg
END:VEVENT
BEGIN:VEVENT
DTSTART;VALUE=DATE:20241013
DTEND;VALUE=DATE:20241014
DTSTAMP:20260421T122825
CREATED:20240510T184333Z
LAST-MODIFIED:20250904T120741Z
UID:23476-1728777600-1728863999@normobaria-wilanow.pl
SUMMARY:Masaż Kobido/Kassaji/Maderoterapia (Kobido by Sylwia)
DESCRIPTION:Zapraszamy na japońskie masaże twarzy Kobido i Kassaji\, taping  kosmetyczny oraz maderoterapię\, z których możecie skorzystać w trakcie pobytu w warunkach normobarycznych. \nZABIEG WYKONUJE: Sylwia – Kliknij tutaj\, aby otworzyć profil Sylwii \nSylwia z zamiłowania i pasji zajmuje się naturalnymi\, holistycznymi metodami wspomagającymi ciało i umysł. Jest dyplomowaną terapeutką i certyfikowaną masażystką naturalnego masażu liftingującego Kobido. \n  \nKilka słów o proponowanych masażach: \n\nKobido – japoński masaż twarzy\, który spłyca zmarszczki\, poprawia owal twarzy\, rozluźnia plecy i obręcz barkową\, niweluje napięcia w okolicy żwacza (bruksizm i zaciskanie zębów)\, ujednolica kolor skóry\, relaksuje.\nKassaji – japońska technika masażu twarzy\, rodzaj drenażu limfatycznego twarzy\, wykonywanego naturalnym kamieniem o specjalnym podłużnym kształcie. Nie tylko drenuje\, ale też rozluźnia mięśnie i koi układ nerwowy. To zabieg wyjątkowo regenerujący i relaksujący. To również doskonała alternatywa dla osób z nadwrażliwą skórą\, trądzikową\, naczyniową\, którym nie można stosować mocnych i bolesnych technik.\nTaping estetyczny – metoda naturalnego modelowania\, relaksowania i odmładzania twarzy. Może pomóc również w problemach skórnych. Taśma przez swoją budowę działa jak druga skóra. Daje efekt liftingu i uniesienia naskórka. Dzięki temu powstaje przestrzeń\, gdzie lepiej krąży krew i limfa\, regenerując tkanki. Taśmy zastosowane po manualnej pracy na twarzy (m.in kobido lub kassaji) zdecydowanie podtrzymują efekt masażu i pogłębiają jego efekt.\nMasaż transbukalny – charakterystyka zabiegu polega na obustronnym ugniataniu zewnętrznych tkanek twarzy\, co ma prowadzić do: zredukowania napięcia mięśni\, pobudzenia mikrokrążenia na poziomie komórkowym\, stymulacji wydzielania elastyny\, a także kolagenu. Metoda obustronnej stymulacji twarzy\, jaką jest masaż transbukalny\, służy konkretnym przypadkom kosmetycznym oraz medycznym. Wśród najważniejszych wskazań kwalifikujących do przeprowadzenia zabiegu są:\n– zmarszczki mimiczne będące oznaką starzenia się cery\,\n– neurologiczne objawy zwiększonego napięcia mięśni twarzy\,\n– paraliż po: porażeniu\, udarze mózgu bądź silnej reakcji uczuleniowej\,\n– uwidocznione blizny będące konsekwencją wypadku lub innego urazu mechanicznego\,\n– dystrofia skórna spowodowana: złą dietą\, indywidualnymi predyspozycjami genetycznymi lub zewnętrznymi zanieczyszczeniami.\n\nForeo FAQ 202 po masażu Kobido – technologia\, która wzmacnia efekt liftingu \nPo masażu Kobido\, który naturalnie modeluje i ujędrnia twarz\, sięgamy po zaawansowaną maskę LED Foreo FAQ 202. To tylko 10-15 minut\, które: \n✨ intensyfikują efekt liftingu i wygładzenia\,\n✨ przyspieszają regenerację skóry\,\n✨ poprawiają koloryt i napięcie\,\n✨ wzmacniają wchłanianie składników aktywnych. \nForeo FAQ 202 wykorzystuje światło LED (czerwone\, niebieskie\, zielone i inne)\, aby maksymalnie zadbać o skórę po intensywnym masażu. \nEfekt? Natychmiastowe ukojenie\, promienny blask i długotrwałe odmłodzenie. \n  \nDODATKOWE INFORMACJE: \n Masaż odbywa się w trakcie pobytu w komorze\, w prywatnej przestrzeni. \n Czas trwania zabiegów: \n– masaż Kobido – 240 zł / 1\,5 godziny\n– masaż Kassaji – 220 zł / 1 godzina\n– taping – 30zł / 15-20 minut\n– masaż Kobido plus drenaż – 350 zł / 1\,5 godziny– masaż Kobido i transbukalny połączony – 350 zł / 2 godziny– masaż transbukalny – 220 zł / 1 godzina \nSesja w normobarii trwa 2 godziny\, czyli po zabiegu macie czas na odpoczynek/integrację doświadczenia w warunkach komory normobarycznej. \n Do opłaty za masaż u Sylwii należy doliczyć opłatę za pobyt w komorze (według cennika). Można także wykorzystać sesję z karnetu.
URL:https://normobaria-wilanow.pl/wydarzenie/masaz-kobido-kassaji-maderoterapia-kobido-by-sylwia-4/
CATEGORIES:Masaże / Terapie Manualne
ATTACH;FMTTYPE=image/jpeg:https://normobaria-wilanow.pl/wp-content/uploads/2025/09/Kobido-1280x854-1.jpg
END:VEVENT
BEGIN:VEVENT
DTSTART;TZID=Europe/Paris:20241018T150000
DTEND;TZID=Europe/Paris:20241018T210000
DTSTAMP:20260421T122825
CREATED:20241001T194545Z
LAST-MODIFIED:20241001T201348Z
UID:23654-1729263600-1729285200@normobaria-wilanow.pl
SUMMARY:Masaż PeLoHa
DESCRIPTION:Masaż PeLoHa \nPeLoHa od słów: Peace\, Love and Harmony \nTo delikatny\, głęboko relaksujący i czuły masaż ciała\, który poprzez dotyk połączony z uzdrawiającą intencją ma piękne i potężne działanie na poziomie fizycznym\, energetycznym i duchowym. Stworzony przez Alana Earle\, który udoskonalał go przez prawie pół wieku\, łącząc elementy masażu polinezyjskiego\, klasycznego\, refleksologii\, Reiki\, akupresury\, wizualizacji\, techniki Bowena oraz pracy z meridianami\, czakrami i uzdrawianiem Polarity.Przynosi ukojenie dla nerwów\, mocno oczyszcza z niekorzystnych wzorców\, pomaga w przeżyciu traumy i przyspiesza regenerację ciała. Niesie w sobie bardzo dużo miłości\, która ruch za ruchem otula ciało i duszę.\nPeLoHa to połączenie pracy z ciałem i energią. Wykonywany w atmosferze miłości i pełnej akceptacji dla Istoty i Ciała osoby masowanej. Z troską i uważnością\, łagodnymi ruchami dłoni uwalnia ciało od napięć i blokad. Uruchamia i rozbudza naturalne procesy\, które mogły zostać zablokowane przez stres\, zmęczenie i silne emocje.\nMasaż trwa około godziny. Jest odpowiedni dla każdego\, bez względu na wiek\, płeć czy niesprawności fizyczne.\nMasowane jest całe ciało z wyłączeniem strefy intymnej. Ciało okryte jest ręcznikiem i lekko naoliwione\, dzięki czemu nie wymaga prysznica po zabiegu.\nNajlepiej działa seria masaży wykonywana w niedługich odstępach czasu. \nMasaż wykonuje Ania – kliknij tutaj by przejść do profilu Ani na facebook’u.\nO Ani:\n„Jako dziecko usłyszałam: \,\,Gdy dorośniesz bądź sobą\, wtedy będziesz szczęśliwa”.\nI tym ważnym dla mnie akcentem przedstawiam Wam Siebie\, prawdziwą szczęściarę\, pasjonatkę pszczół\, mającą pod swoją opieką 20 rodzin pszczelich w \,\,domkach” zwanych ulami. Spełniam pragnienie mojego serca\, będąc blisko natury\, współgrając z polem morficznym MamyZiemi\, wykonując masaże techniką metamorficzną. Mam prawdziwy\, naturalny miód\, propolis i wosk pszczeli ze swojej pasieki. A z nich tworzę naturalne kosmetyki\, pięknie pachnące olejki do masażu ciała\, kremiki\, mazidełka\, sera pielęgnacyjne do twarzy\, dłoni i stóp\, które uwielbiam refleksologicznie masować. Odkrywam niepojętą kiedyś dla mnie głębie miłości\, doznając jej manifestacji w życiu codziennym\, w każdej jej chwili. Subtelna\, dokładna\, precyzyjna w szczegółach\, trwająca w każdej chwili tu i teraz. Każda chwila jest dla mnie darem\, jest majestatyczna\, jest dzika\, jest wolna\, jest prawdziwa\, zdrowa\, delikatna\, silna\, odważna\, radosna\, spokojna\, nieprzewidywalna. Zapraszam na masaż techniką metamorficzną\, który otworzy Cię na doświadczenie swoich ponownych narodzin do życia żywym radosnym życiem. A radość to największy dar jaki możesz dać.” \nDODATKOWE INFORMACJE:\nMasaż odbywa się w trakcie pobytu w komorze\, w prywatnej przestrzeni.\nCzas trwania zabiegu: 45 minut\nCena: 200 zł\nSesja w normobarii trwa 2 godziny\, czyli po zabiegu macie czas na odpoczynek/integrację doświadczenia w warunkach komory normobarycznej.\nDo opłaty za masaż u Ayanny należy doliczyć opłatę za pobyt w komorze (kliknij tutaj aby otworzyć cennik). Można także wykorzystać sesję z karnetu.\nZapisy przyjmujemy telefonicznie.\nW razie jakichkolwiek pytań zapraszamy do kontaktu.\nbiuro@normobaria-wilanow.pl\n509 139 302
URL:https://normobaria-wilanow.pl/wydarzenie/peloha/
CATEGORIES:Masaże / Terapie Manualne
ATTACH;FMTTYPE=image/png:https://normobaria-wilanow.pl/wp-content/uploads/2024/10/peloha-na-strone-tlo.png
END:VEVENT
BEGIN:VEVENT
DTSTART;TZID=Europe/Paris:20241026T130000
DTEND;TZID=Europe/Paris:20241026T150000
DTSTAMP:20260421T122825
CREATED:20241021T112855Z
LAST-MODIFIED:20241021T120719Z
UID:23707-1729947600-1729954800@normobaria-wilanow.pl
SUMMARY:Ziołowa Pielęgnacja (Natalia Szymańska | Tyma Herbs)
DESCRIPTION:Kochani!\n\nWarsztat z Natalią Szymańską\, pasjonatką ziół i twórczynią marki ziołowych\, naturalnych kosmetyków Tyma Herbs. 🌿\n\nKilka słów od Natalii o spotkaniu:\n\n🌿”Zapraszam na cykl warsztatów o ziołowej pielęgnacji ciała\, serca i ducha. Odkryjemy sekrety ziołolecznictwa pełne intrygujących historii z dawnych lat. Dowiecie się skąd zioła mają tak niezwykłą moc uzdrawiania. Wprowadzę was w zasady bezpiecznego korzystania z ziół w życiu codziennym. Nasze spotkania będą idealną okazją by poczuć bliskość natury i nauczyć się jak jej dary mogą wspierać nasze zdrowie\, urodę i dobre samopoczucie każdego dnia.”🌿\n\nNatalia Szymańska – „Jestem pasjonatem zielarstwa. Specjalizuje się w wspomaganiu pielęgnacji dermatologicznych schorzeń skóry za pomocą ziół. Wytwarzam ziołowe ekstrakty i produkty pielęgnacyjne. Bliskie jest mi podejście holistyczne do kwestii pielęgnacji skóry i dbanie o nią w szerokiej perspektywie. Uważnie przyglądam się temu: co na skórę nakładamy\, jak ją masujemy\, czym się karmimy i co pijemy\, jak dbamy o naszą aktywność fizyczną i nasz wewnętrzny spokój. Zioła zbieram i przetwarzam w tradycyjny sposób.  To jedyny skuteczny sposób na zachowanie najcenniejszych ciał czynnych zawartych w ziołach.\n\nW moim laboratorium sama wytwarzam ekstrakty ziołowe i przygotowuję pełne mocy składniki aktywne. Każdy produkt to cenny skarb wymagający uważnej i czasochłonnej pracy\, którą wykonuję zupełnie sama.\n\nMoje receptury to połączenie wiedzy z zakresu ziołolecznictwa\, ze skutecznością składników aktywnych i odkryć naukowych. Wybieram tylko te zioła i surowce o potwierdzonym działaniu. Zioła odkrywam na dzikich\, bezkresnych i odludnych łąkach i w lasach. W spokoju zgłębiam wiedzę\, uważnie obserwuje przyrodę. Moim ukochanym miejscem na Ziemi są Bieszczady.”\n\nDODATKOWE INFORMACJE:\n🟢 Spotkanie trwa: 2 godziny.\n🟢 Wejściówką jest wniesienie dwóch opłat:\n– opłata za spotkanie 120 zł\,\n– do tego należy doliczyć opłatę za pobyt w komorze: 120 zł lub 90 zł dla Juniora/Seniora 65+. Można także wykorzystać sesję z karnetu\, jeżeli ktoś posiada bądź nabędzie. Szczegółowy cennik opłat za sesje w komorze na naszej stronie\, w zakładce „cennik”: https://normobaria-wilanow.pl/cennik/\n🟢 Zapisy przyjmujemy telefonicznie\, bądź mailowo:\n📧 biuro@normobaria-wilanow.pl\n☎️ 509 139 302\nW razie jakichkolwiek pytań zapraszamy do kontaktu 💚
URL:https://normobaria-wilanow.pl/wydarzenie/ziolowa-pielegnacja-natalia-szymanska-tyma-herbs/
CATEGORIES:Wykłady
ATTACH;FMTTYPE=image/png:https://normobaria-wilanow.pl/wp-content/uploads/2024/03/tym-herbs-nizsza-jakosc.png
END:VEVENT
BEGIN:VEVENT
DTSTART;TZID=Europe/Paris:20241026T150000
DTEND;TZID=Europe/Paris:20241026T170000
DTSTAMP:20260421T122825
CREATED:20240330T135751Z
LAST-MODIFIED:20240920T132425Z
UID:23408-1729954800-1729962000@normobaria-wilanow.pl
SUMMARY:Ziołowa Pielęgnacja (Natalia Szymańska | Tyma Herbs)
DESCRIPTION:Kochani!\n\nWarsztat z Natalią Szymańską\, pasjonatką ziół i twórczynią marki ziołowych\, naturalnych kosmetyków Tyma Herbs. 🌿\n\nKilka słów od Natalii o spotkaniu:\n\n🌿”Zapraszam na cykl warsztatów o ziołowej pielęgnacji ciała\, serca i ducha. Odkryjemy sekrety ziołolecznictwa pełne intrygujących historii z dawnych lat. Dowiecie się skąd zioła mają tak niezwykłą moc uzdrawiania. Wprowadzę was w zasady bezpiecznego korzystania z ziół w życiu codziennym. Nasze spotkania będą idealną okazją by poczuć bliskość natury i nauczyć się jak jej dary mogą wspierać nasze zdrowie\, urodę i dobre samopoczucie każdego dnia.”🌿\n\nNatalia Szymańska – „Jestem pasjonatem zielarstwa. Specjalizuje się w wspomaganiu pielęgnacji dermatologicznych schorzeń skóry za pomocą ziół. Wytwarzam ziołowe ekstrakty i produkty pielęgnacyjne. Bliskie jest mi podejście holistyczne do kwestii pielęgnacji skóry i dbanie o nią w szerokiej perspektywie. Uważnie przyglądam się temu: co na skórę nakładamy\, jak ją masujemy\, czym się karmimy i co pijemy\, jak dbamy o naszą aktywność fizyczną i nasz wewnętrzny spokój. Zioła zbieram i przetwarzam w tradycyjny sposób.  To jedyny skuteczny sposób na zachowanie najcenniejszych ciał czynnych zawartych w ziołach.\n\nW moim laboratorium sama wytwarzam ekstrakty ziołowe i przygotowuję pełne mocy składniki aktywne. Każdy produkt to cenny skarb wymagający uważnej i czasochłonnej pracy\, którą wykonuję zupełnie sama.\n\nMoje receptury to połączenie wiedzy z zakresu ziołolecznictwa\, ze skutecznością składników aktywnych i odkryć naukowych. Wybieram tylko te zioła i surowce o potwierdzonym działaniu. Zioła odkrywam na dzikich\, bezkresnych i odludnych łąkach i w lasach. W spokoju zgłębiam wiedzę\, uważnie obserwuje przyrodę. Moim ukochanym miejscem na Ziemi są Bieszczady.”\n\nDODATKOWE INFORMACJE:\n🟢 Spotkanie trwa: 2 godziny.\n🟢 Wejściówką jest wniesienie dwóch opłat:\n– opłata za spotkanie 120 zł\,\n– do tego należy doliczyć opłatę za pobyt w komorze: 120 zł lub 90 zł dla Juniora/Seniora 65+. Można także wykorzystać sesję z karnetu\, jeżeli ktoś posiada bądź nabędzie. Szczegółowy cennik opłat za sesje w komorze na naszej stronie\, w zakładce „cennik”: https://normobaria-wilanow.pl/cennik/\n🟢 Zapisy przyjmujemy telefonicznie\, bądź mailowo:\n📧 biuro@normobaria-wilanow.pl\n☎️ 509 139 302\nW razie jakichkolwiek pytań zapraszamy do kontaktu 💚
URL:https://normobaria-wilanow.pl/wydarzenie/ziolowa-pielegnacja/
CATEGORIES:Wykłady
ATTACH;FMTTYPE=image/png:https://normobaria-wilanow.pl/wp-content/uploads/2024/03/tym-herbs-nizsza-jakosc.png
END:VEVENT
BEGIN:VEVENT
DTSTART;VALUE=DATE:20241030
DTEND;VALUE=DATE:20241031
DTSTAMP:20260421T122825
CREATED:20240125T133303Z
LAST-MODIFIED:20240925T093712Z
UID:23271-1730246400-1730332799@normobaria-wilanow.pl
SUMMARY:Masaż Metamorficzny (Anna Rajch)
DESCRIPTION:Kochani\,\nprzestawiamy nowość w naszej ofercie masaży i pracy z ciałem – technikę metamorficzną.\n\n\n„Czy towarzyszy Ci uczucie utknięcia w życiu ? Zauważasz\, że przysłowiowe  „wchodzenie do tej samej rzeki” Ci nie służy i masz już dość?\nPrzeszłość pozostawia po sobie „ślady” w komórkach\, tkankach\, narządach.\n\nNiektóre pożądane\, inne już nie.\nCiało pamięta każde wydarzenia\, także te nieuświadomione towarzyszące naszemu poczęciu i jego okolicznościom\, życiu jako płód w łonie matki i porodowi. Pamięta czy jest chciane\, oczekiwane czy nie.\n\nDoświadczenia prenatalne w dużej mierze decydują o tym\, jak postrzegamy nasze wydarzenia życiowe. Z punktu widzenia rozwoju człowieka kluczowa jest wolność od zbędnych obciążeń.\n\n \nTechnika metamorficzna rozpuszcza mentalne i emocjonalne blokady nagromadzonej energii z okresu prenatalnego i przekształca nabyte wzorce życiowe w prosty\, skuteczny i relaksujący sposób. \n \nZ masażu stóp\, dłoni i głowy techniką metamorficzną\, nazywanej również motylkową\, mogą skorzystać:\n \n💚 wszyscy zainteresowani odzyskaniem pewności siebie\, poczucia własnej wartości\, inspiracji\, swojej sprawczości i harmonii w życiu\n💚 wszyscy\, którzy potrzebują metamorfozy\, zmiany np. miejsca pracy\, domu\, przestrzeni\, odkrycia talentów\, inspiracji\, nowych zainteresowań… \n💚 dzieci zdrowe\, ponieważ metoda ta wspomaga ich rozwój\, poprawia pamięć\, usprawnia naukę i przyswajanie wiedzy\n💚dzieci chore np. z autyzmem\, gdyż w wielu przypadkach udawało się zredukować objawy choroby\n💚 kobiety w ciąży i ich partnerzy\, ponieważ sprzyja relaksacji i daje odprężenie oraz eliminuje depresję poporodową\n💚 Mężczyźni i Żeńczynie jako wsparcie na drodze w zajściu w ciążę \n \n\n🌪️Metamorfoza to ścieżka bardzo głęboka i wspierająca\, gdy chodzi o rozpuszczenie 🌊 nieuświadomionych\, przed urodzeniowych wzorców traumatycznych\, ponieważ ujawnia i eliminuje wrogie wobec życia programy bezpośrednio u źródeł.” \nMasaż wykonuje Ania https://www.facebook.com/profile.php?id=100090996325354\nO Ani:\n„Jako dziecko usłyszałam: \,\,Gdy dorośniesz bądź sobą\, wtedy będziesz szczęśliwa”. \n\n\n\nI tym ważnym dla mnie akcentem przedstawiam Wam Siebie prawdziwą szczęściarę\, pasjonatkę pszczół\, mającą pod swoją opieką 20 rodzin pszczelich w \,\,domkach” zwanych ulami. Spełniam pragnienie mojego serca\, będąc blisko natury\, współgrając z polem morficznym MamyZiemi\, wykonując masaże techniką metamorficzną. Mam prawdziwy\, naturalny miód\, propolis i wosk pszczeli ze swojej pasieki. A z nich tworzę naturalne kosmetyki\, pięknie pachnące olejki do masażu ciała\, kremiki\, mazidełka\, sera pielęgnacyjne do twarzy\, dłoni i stóp\, które uwielbiam refleksologicznie masować. Odkrywam niepojętą kiedyś dla mnie głębie miłości\, doznając jej manifestacji w życiu codziennym\, w każdej jej chwili. Subtelna\, dokładna\, precyzyjna w szczegółach\, trwająca w każdej chwili tu i teraz. Każda chwila jest dla mnie darem\, jest majestatyczna\, jest dzika\, jest wolna\, jest prawdziwa\, zdrowa\, delikatna\, silna\, odważna\, radosna\, spokojna\, nieprzewidywalna. Zapraszam na masaż techniką metamorficzną\, który otworzy Cię na doświadczenie swoich ponownych narodzin do życia żywym radosnym życiem. A radość to największy dar jaki możesz dać.”  \n\nDODATKOWE INFORMACJE:\n Masaż odbywa się w trakcie pobytu w komorze\, w prywatnej przestrzeni.\n Czas trwania zabiegu: 1 godzina\n Cena: 250 zł\nSesja w normobarii trwa 2 godziny\, czyli po zabiegu macie czas na odpoczynek/integrację doświadczenia w warunkach komory normobarycznej.\n Do opłaty za masaż u Ayanny należy doliczyć opłatę za pobyt w komorze (według cennika dostępnego na stronie\, w zakładce „cennik”). Można także wykorzystać sesję z karnetu.\n Zapisy przyjmujemy telefonicznie.\nW razie jakichkolwiek pytań zapraszamy do kontaktu.\n biuro@normobaria-wilanow.pl\n 509 139 302 \nAktualne terminy powyższych zabiegów znajdziecie w zakładce „wydarzenia specjalne” (kliknij tutaj\, aby otworzyć). O dostępne godziny pytajcie telefonicznie.
URL:https://normobaria-wilanow.pl/wydarzenie/masaz-metamorficzny-2/
CATEGORIES:Masaże / Terapie Manualne
ATTACH;FMTTYPE=image/png:https://normobaria-wilanow.pl/wp-content/uploads/2023/09/masaz-metamorficzny-listopad.png
END:VEVENT
END:VCALENDAR